BEGIN:VCALENDAR
VERSION:2.0
PRODID:-//Stecoah Valley Center - ECPv6.15.15//NONSGML v1.0//EN
CALSCALE:GREGORIAN
METHOD:PUBLISH
X-ORIGINAL-URL:https://stecoahvalleycenter.com
X-WR-CALDESC:Events for Stecoah Valley Center
REFRESH-INTERVAL;VALUE=DURATION:PT1H
X-Robots-Tag:noindex
X-PUBLISHED-TTL:PT1H
BEGIN:VTIMEZONE
TZID:America/New_York
BEGIN:DAYLIGHT
TZOFFSETFROM:-0500
TZOFFSETTO:-0400
TZNAME:EDT
DTSTART:20230312T070000
END:DAYLIGHT
BEGIN:STANDARD
TZOFFSETFROM:-0400
TZOFFSETTO:-0500
TZNAME:EST
DTSTART:20231105T060000
END:STANDARD
BEGIN:DAYLIGHT
TZOFFSETFROM:-0500
TZOFFSETTO:-0400
TZNAME:EDT
DTSTART:20240310T070000
END:DAYLIGHT
BEGIN:STANDARD
TZOFFSETFROM:-0400
TZOFFSETTO:-0500
TZNAME:EST
DTSTART:20241103T060000
END:STANDARD
BEGIN:DAYLIGHT
TZOFFSETFROM:-0500
TZOFFSETTO:-0400
TZNAME:EDT
DTSTART:20250309T070000
END:DAYLIGHT
BEGIN:STANDARD
TZOFFSETFROM:-0400
TZOFFSETTO:-0500
TZNAME:EST
DTSTART:20251102T060000
END:STANDARD
BEGIN:DAYLIGHT
TZOFFSETFROM:-0500
TZOFFSETTO:-0400
TZNAME:EDT
DTSTART:20260308T070000
END:DAYLIGHT
BEGIN:STANDARD
TZOFFSETFROM:-0400
TZOFFSETTO:-0500
TZNAME:EST
DTSTART:20261101T060000
END:STANDARD
END:VTIMEZONE
BEGIN:VEVENT
DTSTART;TZID=America/New_York:20250920T130000
DTEND;TZID=America/New_York:20250920T160000
DTSTAMP:20260423T062752
CREATED:20250314T181935Z
LAST-MODIFIED:20250314T181956Z
UID:10000754-1758373200-1758384000@stecoahvalleycenter.com
SUMMARY:Recycled Jewelry
DESCRIPTION:Laura Walkingstick\, famous for her Cherokee Cornhusk Dolls\, invites you to think outside the box\, discovering other ways to use materials. She will bring aluminum\, plastics\, and metals for you to use in your creations\, along with jewelry hooks\, jump rings\, grommets\, and sandpaper. Walkingstick will bring the materials; you bring your imagination. \nTuition $60.  Register by Thursday\, September 18
URL:https://stecoahvalleycenter.com/calendar/recycled-jewelry/
LOCATION:Taught by Laura Walkingstick
CATEGORIES:classes
ATTACH;FMTTYPE=image/jpeg:https://media-upload-stecoah.s3.amazonaws.com/wp-content/uploads/2025/03/14141912/earrings.jpg
END:VEVENT
BEGIN:VEVENT
DTSTART;TZID=America/New_York:20250621T130000
DTEND;TZID=America/New_York:20250621T150000
DTSTAMP:20260423T062752
CREATED:20250314T182357Z
LAST-MODIFIED:20250314T182357Z
UID:10000755-1750510800-1750518000@stecoahvalleycenter.com
SUMMARY:Cherokee Cornhusk Dolls
DESCRIPTION:When you make a cornhusk doll with Laura Walkingstick\, you’re creating a narrative work. Her Masters in Art Therapy paired with her love for textile objects\, materials\, and jewelry opens the door for you to experience doll making from a different perspective. Dollmaking materials are provided: cornhusk\, charms\, hair\, beads\, feathers\, extra decorations\, and doll stands. Students may also bring square fabric pieces and accessories of their choosing. People often bring sentimental items such as broken jewelry pieces\, cloth pieces\, or earrings missing their matches. \nRegistration Deadline: Thursday\, June 19
URL:https://stecoahvalleycenter.com/calendar/cherokee-cornhusk-dolls-2/
LOCATION:Taught by Laura Walkingstick
CATEGORIES:classes
ATTACH;FMTTYPE=image/jpeg:https://media-upload-stecoah.s3.amazonaws.com/wp-content/uploads/2025/03/14142337/Screenshot_12-3-2025_143620_.jpeg
END:VEVENT
BEGIN:VEVENT
DTSTART;TZID=America/New_York:20241123T130000
DTEND;TZID=America/New_York:20241123T150000
DTSTAMP:20260423T062752
CREATED:20240628T164721Z
LAST-MODIFIED:20241001T195049Z
UID:10000693-1732366800-1732374000@stecoahvalleycenter.com
SUMMARY:Cherokee Cornhusk Dolls
DESCRIPTION:DATE CHANGED TO SATURDAY\, NOVEMBER 23.  When you make a cornhusk doll with Laura Walkingstick\, you’re creating a narrative work. Her Masters in Art Therapy paired with her love for textile objects\, materials\, and jewelry opens the door for you to experience doll making from a different perspective. Dollmaking materials are provided: cornhusk\, charms\, hair\, beads\, feathers\, extra decorations\, and doll stands. Students may also bring square fabric pieces and accessories of their choosing. People often bring sentimental items such as broken jewelry pieces\, cloth pieces\, or earrings missing their matches. \nRegistration Deadline: Thursday\, November 21\, 2024
URL:https://stecoahvalleycenter.com/calendar/cherokee-cornhusk-dolls/
LOCATION:Taught by Laura Walkingstick
CATEGORIES:classes
ATTACH;FMTTYPE=image/jpeg:https://media-upload-stecoah.s3.amazonaws.com/wp-content/uploads/2024/06/28124209/Student-dolls.jpg
END:VEVENT
END:VCALENDAR